BEGIN:VCALENDAR
VERSION:2.0
PRODID:-//UNACentral - ECPv6.15.20//NONSGML v1.0//EN
CALSCALE:GREGORIAN
METHOD:PUBLISH
X-ORIGINAL-URL:https://unacentral.uk
X-WR-CALDESC:Events for UNACentral
REFRESH-INTERVAL;VALUE=DURATION:PT1H
X-Robots-Tag:noindex
X-PUBLISHED-TTL:PT1H
BEGIN:VTIMEZONE
TZID:UTC
BEGIN:STANDARD
TZOFFSETFROM:+0000
TZOFFSETTO:+0000
TZNAME:UTC
DTSTART:20220101T000000
END:STANDARD
END:VTIMEZONE
BEGIN:VEVENT
DTSTART;TZID=UTC:20230708T123000
DTEND;TZID=UTC:20230708T123000
DTSTAMP:20260422T190326
CREATED:20230620T082746Z
LAST-MODIFIED:20230620T082746Z
UID:243-1688819400-1688819400@unacentral.uk
SUMMARY:Has the UN and the International Community abandoned Burma ( Myanmar) and its people?
DESCRIPTION:On 8 July Warwick District UN Association are honoured to host Zoya Phan\, Programme Director at Burma Campaign UK\, who will discuss \nHas the UN and the International Community abandoned Burma ( Myanmar) and its people?\nZoya Phan is one of Burma’s leading democracy activists in Europe working to promote human rights\, democracy and development in Burma. She has met twice with former British Prime Minister Gordon Brown\, the leader of the UK Conservative Party and later Prime Minister David Cameron\, and other senior politicians from around the world. She is regularly featured in international media including BBC and Al Jazeera. She is also Programme Director for Advance Myanmar\, working to empower grassroots organisations\, and provide assistance for activists and displaced civilians in Burma. \nShe is a director of Phan Foundation\, which aims to preserve Karen culture\, promote human rights\, fight poverty and provide education for Karen people. She is on the board of the European Karen Network. She is recognised as a Young Global Leader by the World Economic Forum. She is also a fellow of TED Global\, Rising Talent for Women’s Forum\, and a member of Young Professionals Network of the UN Association of the UK (UNA-UK). Her autobiography is published as ‘Undaunted’ in the USA and ‘Little Daughter’ in the rest of the world. \nBurma Campaign UK works for human rights\, democracy and development in Burma. It is one of the leading Burma campaign organisations in the world and plays a leading role in raising awareness about the situation in Burma\, and pressuring the international community to take action in support of the people of Burma. \nThe Burma Campaign UK is the world’s leading organisation dedicated to campaigning for freedom and democracy in Burma. \nThe meeting will take place at Leamington Spa Baptist Church (Warwick Hall)\, Chandos Street\, CV32 4RN from 12:15 pm to 1:45 pm. \nThis is a Hybrid meeting (both in-person and Zoom). Click here to open the Zoom meeting. \nPlease feel free to bring your own lunches. Tea/coffee/biscuits will be provided. \nHall open 12:00 pm\nZoom opens 12:15 pm\nMeeting start prompt 12:30 pm (including Q & A session)\nMeeting finishes at 1:45 pm
URL:https://unacentral.uk/event/has-the-un-and-the-international-community-abandoned-burma-myanmar-and-its-people/
LOCATION:Leamington Spa Baptist Church\, Chandos Street\, Leamington Spa\, Warwickshire\, CV32 4RN\, United Kingdom
CATEGORIES:Myanmar,Video Conference,Warwick
ATTACH;FMTTYPE=image/jpeg:https://unacentral.uk/wp-content/uploads/2023/04/WarwickBranchHeader.jpg
END:VEVENT
END:VCALENDAR