BEGIN:VCALENDAR
VERSION:2.0
PRODID:-//UNACentral - ECPv6.15.20//NONSGML v1.0//EN
CALSCALE:GREGORIAN
METHOD:PUBLISH
X-ORIGINAL-URL:https://unacentral.uk
X-WR-CALDESC:Events for UNACentral
REFRESH-INTERVAL;VALUE=DURATION:PT1H
X-Robots-Tag:noindex
X-PUBLISHED-TTL:PT1H
BEGIN:VTIMEZONE
TZID:UTC
BEGIN:STANDARD
TZOFFSETFROM:+0000
TZOFFSETTO:+0000
TZNAME:UTC
DTSTART:20240101T000000
END:STANDARD
END:VTIMEZONE
BEGIN:VEVENT
DTSTART;TZID=UTC:20251129T123000
DTEND;TZID=UTC:20251129T134500
DTSTAMP:20260421T083517
CREATED:20251111T112650Z
LAST-MODIFIED:20251111T112650Z
UID:535-1764419400-1764423900@unacentral.uk
SUMMARY:Killer Robots and Lethal Autonomy
DESCRIPTION:On 29 November Warwick District United Nations Association welcomes Alexander Davies from the London School of Economics (LSE) to speak on the topic \nKiller Robots and Lethal Autonomy:\nTowards Multilateral Policy on Autonomous Weapon Systems\nThis will be a hybrid event\, open to both in-person at Leamington Spa Baptist Church\, Chandos Street\, Leamington Spa\, CV32 4RN and online via this link. \nArtificial intelligence and automation are transforming the modern battlefield. The rise of autonomous weapon systems (AWS) — machines capable of selecting and engaging targets without direct human intervention — poses one of the most urgent challenges of our time. Drawing on the latest research and on-the-ground developments in Ukraine — the first major conflict in which AI and autonomous systems are playing a central role — Alexander explores how these technologies are reshaping warfare and international law. \nThe discussion will highlight the growing momentum within the United Nations toward developing multilateral frameworks to regulate or ban lethal autonomous weapons\, alongside analysing the challenges towards regulation and asking questions such as: \n\nHow does AI and autonomous weaponry shape modern warfare and global security?\nIn what ways have the tools of war evolved—and what do those changes mean for ethics\, strategy\, and international law?\nHow can the UN address the growing security risks posed by rapid technological change?\n\nAbout our Speaker \nAlexander J. Davies is a doctoral candidate at LSE’s Department of International Relations. . He coordinates LSE’s Security and Statecraft Research Cluster and previously served as Deputy Editor of Millennium: Journal of International Studies. \nHis research explores how domestic politics shape international security and military alliances. \nAlexander has taught courses at LSE including American Grand Strategy\, International Security\, and From Cyberwar to Killer Robots: Emerging Technology and International Security. Alexander is an Associate Fellow of the British Higher Education Academy and has received five teaching awards for excellence in teaching\, including the LSE Summer School Class Teacher Award in both 2024 and 2025. \nHe holds an MSc in International Relations (with Distinction) from LSE and a BA in Politics and International Relations (First Class) from the University of Nottingham. Beyond academia\, he brings over ten years of experience as the Founder and Director of a UK-based 3D environment design studio.
URL:https://unacentral.uk/event/killer-robots-and-lethal-autonomy/
CATEGORIES:War,Warwick District UNA
END:VEVENT
BEGIN:VEVENT
DTSTART;TZID=UTC:20250712T123000
DTEND;TZID=UTC:20250712T140000
DTSTAMP:20260421T083517
CREATED:20250616T030538Z
LAST-MODIFIED:20250616T030721Z
UID:530-1752323400-1752328800@unacentral.uk
SUMMARY:Nuclear Weapons still threaten us all TODAY! What can we do about it?
DESCRIPTION:Lauren Muir \nOn Saturday 12th July 2025\, Warwick District UN Association is honoured and delighted to welcome UNA-UK’s Policy & Outreach Officer and support officer for UK All Party Parliamentary Group on UN\, Lauren Muire\, who will address the meeting in person on the subject: \nNuclear Weapons still threaten us all TODAY! What can we do about it? \nThe meeting will be held from 12:30 pm to 1:45 pm at the Leamington Spa Baptist Church\, Chandos Street\, Leamington Spa\, CV32 4RN. \nThis will be a hybrid meeting both in-person and on-line. \nJoin Zoom Meeting by following this link. Meeting ID: 876 9872 0938\, Passcode: 178541. \nBACKGROUND\nEighty years after the atomic bombings of Hiroshima & Nagasaki\, the threat of nuclear weapons has not gone away – it has evolved. \nThe United Nations & the UN Association have long championed nuclear disarmament\, working to reduce the catastrophic risks these weapons pose to humanity. In today’s increasingly unstable global climate\, marked by open threats\, rising tensions\, and a renewed reliance on nuclear deterrence\, this mission is more urgent than ever. \nJoin us for a special meeting of the Warwick District United Nations Association as we welcome Lauren Muir\, Policy & Outreach Officer at UNA-UK. Lauren leads UNA-UK’s work on nuclear disarmament and supports the All-Party Parliamentary Group on the United Nations. \nLAUREN WILL SPEAK ABOUT\n\nThe current & future nuclear weapons landscape\nUNA-UK’s disarmament work & campaigning strategy\nWhat practical steps we can take – as individuals & communities – to influence UK policy & global attitudes\n\nWHY THIS MATTERS\nAs more countries enhance or expand their nuclear arsenals\, the possibility of use – by design\, miscalculation\, or accident – becomes disturbingly plausible. This is not just a foreign policy issue; it’s an existential challenge! \nA second deeply concerning development is well illustrated by the open threats made by Russia to use nuclear weapons in the conflict it triggered through its unlawful & inhumane invasion of Ukraine. \nABOUT OUR SPEAKER\nLauren joined UNA-UK in 2020 and plays a central role in shaping its nuclear policy work. With a background in Geopolitics & Security\, she brings both academic depth and frontline advocacy experience. Her role connects citizens and campaigners with decision-makers in Parliament. \nMEETING SCHEDULE\nTea/Coffee/ biscuits will be provided. Feel free to bring your own lunch. \n12:15 pm – Church hall open for tea/coffee/biscuits and also for those who will join online Zoom. \n12:30 pm – Meeting starts promptly \n13:45 pm – Meeting close \n14:00 pm – Clear and vacate the hall
URL:https://unacentral.uk/event/nuclear-weapons-still-threaten-us-all-today-what-can-we-do-about-it/
LOCATION:Leamington Spa Baptist Church\, Chandos Street\, Leamington Spa\, Warwickshire\, CV32 4RN\, United Kingdom
CATEGORIES:Nuclear Disarmament,UNA-UK,Warwick District UNA
END:VEVENT
BEGIN:VEVENT
DTSTART;TZID=UTC:20250118T121500
DTEND;TZID=UTC:20250118T134500
DTSTAMP:20260421T083517
CREATED:20250110T101600Z
LAST-MODIFIED:20250110T101600Z
UID:515-1737202500-1737207900@unacentral.uk
SUMMARY:Tackling Sexual & Gender-Based Violence in Africa
DESCRIPTION:On 18 January Warwick District UN Association will host a talk by Dr Helen Liebling who will address the meeting on the subject \nConflict\, Resilience\, and Justice: Tackling Sexual & Gender-Based Violence in Africa \nThis talk will be held in Leamington Spa Baptist Church\, Chandos Street\, Leamington Spa\, CV32 4RN and also online via this link. \nTea\, coffee\, and biscuits will be provided from 12:00. Bring your own lunch if desired. \nThe talk will be preceded by a short AGM from 12:15 to 12:25. The talk will run from 12:35 to 13:45 pm. \nDr. Liebling is a globally recognised expert in conflict-related sexual and gender-based violence (SGBV) and torture\, with over 25 years of ground-breaking research and advocacy. She has worked extensively in Uganda\, Liberia\, Rwanda\, South Africa\, and the Democratic Republic of Congo\, collaborating with renowned organisations such as the Women’s International Peace Centre\, West Africa Network for Peace-building\, and Tearfund. \nThe talk will include \n\nPersonal Stories: Highlights from her autobiography\, Nalule’s Travels and Adventures.\nExpert Analysis: Insights into empowering survivors and advancing their rights.\nInnovative Solutions: How community-led programs like CLAMP are transforming refugee support.\n\nHelen has authored four influential books and numerous peer-reviewed articles\, advancing global understanding of trauma recovery and justice for survivors. Her innovative initiatives\, such as the CLAMP project\, train refugees as peer counsellors\, offering transformative support to survivors in refugee settlements. Helen’s leadership extends to global advisory boards\, including the Healing in Harmony initiative\, which evaluates the impact of music therapy on women affected by conflict. \nHer autobiography\, Nalule’s Travels and Adventures\, has been praised as a testament to resilience and activism\, cementing her reputation as a trailblazer in the fight for gender-sensitive healthcare and justice for survivors worldwide. \nFurther information from Gian Clare\, Chairman\, Warwick District\, United Nations Association\, gianclareuna@gmail.com
URL:https://unacentral.uk/event/tackling-sexual-gender-based-violence-in-africa/
LOCATION:Leamington Spa Baptist Church\, Chandos Street\, Leamington Spa\, Warwickshire\, CV32 4RN\, United Kingdom
CATEGORIES:Africa,Sexual Violence,Warwick District UNA
ATTACH;FMTTYPE=image/jpeg:https://unacentral.uk/wp-content/uploads/2023/04/WarwickBranchHeader.jpg
END:VEVENT
END:VCALENDAR