BEGIN:VCALENDAR
VERSION:2.0
PRODID:-//UNACentral - ECPv6.15.20//NONSGML v1.0//EN
CALSCALE:GREGORIAN
METHOD:PUBLISH
X-ORIGINAL-URL:https://unacentral.uk
X-WR-CALDESC:Events for UNACentral
REFRESH-INTERVAL;VALUE=DURATION:PT1H
X-Robots-Tag:noindex
X-PUBLISHED-TTL:PT1H
BEGIN:VTIMEZONE
TZID:UTC
BEGIN:STANDARD
TZOFFSETFROM:+0000
TZOFFSETTO:+0000
TZNAME:UTC
DTSTART:20220101T000000
END:STANDARD
END:VTIMEZONE
BEGIN:VEVENT
DTSTART;TZID=UTC:20240605T190000
DTEND;TZID=UTC:20240605T210000
DTSTAMP:20260421T083330
CREATED:20240508T035915Z
LAST-MODIFIED:20240508T035915Z
UID:467-1717614000-1717621200@unacentral.uk
SUMMARY:Pathways to Peace for Gaza\, Palestine and Israel
DESCRIPTION:Pathways to Peace is a new series of events from Justice for Palestinians (Leamington Spa). In the inaugural session on 5 June 2024 you will hear from two eminent speakers from the worlds of medicine and the law moderated by renowned human rights barrister Michael Mansfile KC. All three are united by a passion for dignity and justice for the Palestininan people: \nWe have attracted the cream of speakers on Gaza\, Palestine\, the Middle East and Israel. They are all experts in their fields\, from history\, to politics\, to diplomacy\, aid \, medicine\, the law\, and beyond. They will share their analyses of the issues and their vision for a sustainable peace in Palestine /Israel. \nProfessor Nick Maynard is a surgeon and medical tutor in Oxford and Gaza. Through Medical Aid for Palestinians (MAP)\, he was in Gaza over Christmas 2023\, before he was evicted by the IDF. He has since returned. He says Gaza is\, “…much worse than we could possibly have imagined. I couldn’t compare it to anything\, it was just like nothing I’ve seen on Earth\,” \nTayab Ali is an internationally renowned lawyer\, and Director of the International Centre of Justice for Palestinians (ICJP). Tayab\, and the ICJP have\, among many other initiatives\, lodged a criminal complaint alleging UK Government Ministers’ complicity in war crimes at Scotland Yard. It has also launched a legal challenge against the Foreign\,Commonwealth and Development Office decision to defund UNRWA\, and is active in campaigns to stop arms sales to Israel. \nMichael Mansfield KC (moderator) describes himself as a radical lawyer and is well known for his work defending the Birminham Six\, the Hillsborough disaster and the death of Jean Charles de Menezes. He has long also been an advocate of justice for the Palestinian people. \nThey will speak about their experience\, how they see the situation unfolding\, and what they believe is necessary to bring about an equitable and lasting peace in Israel/Palestine and the Middle East. You will have plenty of opportunity to interact with them\, ask questions and share your own take on the situation. \nWe hope you will attend live in St Peter’s Hall\, CV32 5AA\, but the event will also be live-streamed on Zoom. Please indicate your preference when you register. \nThe event is free and there will be a retiring collection to help defray costs with any balance going to support the work of MAP. If attending via Zoom you can donate to MAP via the link on the registration page. We will send you the joining link a few days before the event. \nObtain your tickets here.
URL:https://unacentral.uk/event/pathways-to-peace-for-gaza-palestine-and-israel/
LOCATION:St Peter’s Hall Leamington\, 3A Dormer Place\, Leamington Spa\, CV32 5AA\, United Kingdom
CATEGORIES:Gaza,Israel,Palestine,Peace
END:VEVENT
BEGIN:VEVENT
DTSTART;TZID=UTC:20231114T150000
DTEND;TZID=UTC:20231114T160000
DTSTAMP:20260421T083330
CREATED:20231011T133931Z
LAST-MODIFIED:20231011T133931Z
UID:330-1699974000-1699977600@unacentral.uk
SUMMARY:Coventry's International Young People’s Peace Essay Award Ceremony
DESCRIPTION:On 14 November 2023\, Coventry United Nations Association\, working with Coventry Lord Mayor’s Committee for Peace and Reconciliation\, will run a video event to announce the winners of Coventry’s International Young People’s Peace Essay 2023. \nYoung people aged 15 to 24 can gain a certificate of participation\, stand a chance to win a cash prize and gain an entry in their CV. \nThis competition it is a tool for exploring young peoples’ opinions on peace agendas and for harnessing their enthusiasm for contributing to the improvement of peace in the world. \nThe collection of written essays could serve as a resource for various sectors\, for example a source of ideas for leaders\, items for analysis by social scientists and law scholars\, a motivation for use by teachers to encourage their students to write essays and a revelation for politicians about the issues that preoccupy the minds of young people. \nJoin the event by clicking here\nEntries to Coventry’s International Young People’s Peace Essay Competition close on 31 October. \nFor details of submitting essays see https://youngpeoplespeaceessay.org/rules-and-more-information/
URL:https://unacentral.uk/event/coventrys-international-young-peoples-peace-essay-award-ceremony/
CATEGORIES:Competition,Peace
END:VEVENT
BEGIN:VEVENT
DTSTART;VALUE=DATE:20231101
DTEND;VALUE=DATE:20231115
DTSTAMP:20260421T083330
CREATED:20231011T131217Z
LAST-MODIFIED:20231011T131217Z
UID:323-1698796800-1700006399@unacentral.uk
SUMMARY:Coventry Peace Festival 2023
DESCRIPTION:Coventry Peace Festival will take place between 1st – 14th November. \nAt the time of writing the programme of events is still being planned. \nDetails will be available at https://www.coventry.gov.uk/peace
URL:https://unacentral.uk/event/coventry-peace-festival-2023/
CATEGORIES:Coventry,Festival,Peace
END:VEVENT
END:VCALENDAR