BEGIN:VCALENDAR
VERSION:2.0
PRODID:-//UNACentral - ECPv6.15.20//NONSGML v1.0//EN
CALSCALE:GREGORIAN
METHOD:PUBLISH
X-ORIGINAL-URL:https://unacentral.uk
X-WR-CALDESC:Events for UNACentral
REFRESH-INTERVAL;VALUE=DURATION:PT1H
X-Robots-Tag:noindex
X-PUBLISHED-TTL:PT1H
BEGIN:VTIMEZONE
TZID:UTC
BEGIN:STANDARD
TZOFFSETFROM:+0000
TZOFFSETTO:+0000
TZNAME:UTC
DTSTART:20220101T000000
END:STANDARD
END:VTIMEZONE
BEGIN:VEVENT
DTSTART;VALUE=DATE:20230406
DTEND;VALUE=DATE:20230407
DTSTAMP:20260422T135035
CREATED:20230228T155245Z
LAST-MODIFIED:20230327T070732Z
UID:150-1680739200-1680825599@unacentral.uk
SUMMARY:International Day of Sport for Development and Peace 2023
DESCRIPTION:Scoring for People and the Planet\nThe International Day of Sport for Development and Peace (IDSDP)\, which takes place annually on 6 April\, presents an opportunity to recognize the positive role sport and physical activity play in communities and in people’s lives across the globe. \nSport has the power to change the world; it is a fundamental right and a powerful tool to strengthen social ties and promote sustainable development and peace\, as well as solidarity and respect for all. The day presents an opportunity to recognize the positive role sport and physical activity play in communities and in people’s lives across the globe. \nThe global theme for the International Day of Sport for Development and Peace 2023 is “Scoring for People and the Planet”. As in previous years\, this overarching theme allows for IDSDP activities to broadly focus around the impact and influence of sport on sustainable development and peace. \nFrom empowering women and girls\, young people\, persons with disabilities\, and other marginalized groups to advancing health\, sustainability\, and education objectives\, sport offers tremendous potential for advancing the Sustainable Development Goals (SDGs) and for promoting peace and human rights. The United Nations has long recognized the power and universality of sport\, using it to unite individuals and groups through supporting sport for development efforts\, participating in events from the global to the grassroots level\, and developing its own sports-related campaigns and initiatives. \nMore information at https://www.un.org/en/observances/sport-day and at https://social.desa.un.org/issues/sport-for-development-and-peace/international-day-of-sports-for-development-and-peace \nThe day is promoted by United Nations Division for Inclusive Social Development (DISD).
URL:https://unacentral.uk/event/international-day-of-sport-for-development-and-peace-2023/
CATEGORIES:International Days,Sport
END:VEVENT
END:VCALENDAR