BEGIN:VCALENDAR
VERSION:2.0
PRODID:-//UNACentral - ECPv6.15.20//NONSGML v1.0//EN
CALSCALE:GREGORIAN
METHOD:PUBLISH
X-WR-CALNAME:UNACentral
X-ORIGINAL-URL:https://unacentral.uk
X-WR-CALDESC:Events for UNACentral
REFRESH-INTERVAL;VALUE=DURATION:PT1H
X-Robots-Tag:noindex
X-PUBLISHED-TTL:PT1H
BEGIN:VTIMEZONE
TZID:UTC
BEGIN:STANDARD
TZOFFSETFROM:+0000
TZOFFSETTO:+0000
TZNAME:UTC
DTSTART:20230101T000000
END:STANDARD
END:VTIMEZONE
BEGIN:VEVENT
DTSTART;TZID=UTC:20240224T103000
DTEND;TZID=UTC:20240224T123000
DTSTAMP:20260421T031921
CREATED:20240212T043916Z
LAST-MODIFIED:20240212T044040Z
UID:420-1708770600-1708777800@unacentral.uk
SUMMARY:Rally around Ukraine!
DESCRIPTION:On February 24\, UNA Shropshire will be holding a Rally around Ukraine! event in Main Church Stretton car park\, opposite Coop. SY6 6BL. \nFor further information contact :\nJohn Crowe Tel: 07851 760443\nwww.unashropshire.org.uk
URL:https://unacentral.uk/event/rally-around-ukraine/
LOCATION:Church Stretton Car Park\, Easthope Road\, Church Stretton\, Shropshire\, SY6 6BL
CATEGORIES:Rally,Ukraine
END:VEVENT
END:VCALENDAR